BEGIN:VCALENDAR
VERSION:2.0
PRODID:-//Bella Vino Wine Market - ECPv6.15.20//NONSGML v1.0//EN
CALSCALE:GREGORIAN
METHOD:PUBLISH
X-WR-CALNAME:Bella Vino Wine Market
X-ORIGINAL-URL:https://bellavinowinemarket.com
X-WR-CALDESC:Events for Bella Vino Wine Market
REFRESH-INTERVAL;VALUE=DURATION:PT1H
X-Robots-Tag:noindex
X-PUBLISHED-TTL:PT1H
BEGIN:VTIMEZONE
TZID:America/New_York
BEGIN:DAYLIGHT
TZOFFSETFROM:-0500
TZOFFSETTO:-0400
TZNAME:EDT
DTSTART:20180311T070000
END:DAYLIGHT
BEGIN:STANDARD
TZOFFSETFROM:-0400
TZOFFSETTO:-0500
TZNAME:EST
DTSTART:20181104T060000
END:STANDARD
BEGIN:DAYLIGHT
TZOFFSETFROM:-0500
TZOFFSETTO:-0400
TZNAME:EDT
DTSTART:20190310T070000
END:DAYLIGHT
BEGIN:STANDARD
TZOFFSETFROM:-0400
TZOFFSETTO:-0500
TZNAME:EST
DTSTART:20191103T060000
END:STANDARD
BEGIN:DAYLIGHT
TZOFFSETFROM:-0500
TZOFFSETTO:-0400
TZNAME:EDT
DTSTART:20200308T070000
END:DAYLIGHT
BEGIN:STANDARD
TZOFFSETFROM:-0400
TZOFFSETTO:-0500
TZNAME:EST
DTSTART:20201101T060000
END:STANDARD
BEGIN:DAYLIGHT
TZOFFSETFROM:-0500
TZOFFSETTO:-0400
TZNAME:EDT
DTSTART:20210314T070000
END:DAYLIGHT
BEGIN:STANDARD
TZOFFSETFROM:-0400
TZOFFSETTO:-0500
TZNAME:EST
DTSTART:20211107T060000
END:STANDARD
END:VTIMEZONE
BEGIN:VEVENT
DTSTART;TZID=America/New_York:20200718T180000
DTEND;TZID=America/New_York:20200718T200000
DTSTAMP:20260424T220347
CREATED:20200627T204356Z
LAST-MODIFIED:20200627T204356Z
UID:3403-1595095200-1595102400@bellavinowinemarket.com
SUMMARY:Live Music: David Lyon
DESCRIPTION:
URL:https://bellavinowinemarket.com/event/live-music-david-lyon-8/
LOCATION:Bella Vino Wine Market\, 100 Indian Rocks Rd N Suite F\, Belleair Bluffs\, FL\, 33770\, United States
END:VEVENT
BEGIN:VEVENT
DTSTART;TZID=America/New_York:20200717T180000
DTEND;TZID=America/New_York:20200717T200000
DTSTAMP:20260424T220347
CREATED:20200627T204316Z
LAST-MODIFIED:20200627T204316Z
UID:3401-1595008800-1595016000@bellavinowinemarket.com
SUMMARY:Live Music: David Lyon
DESCRIPTION:
URL:https://bellavinowinemarket.com/event/live-music-david-lyon-7/
LOCATION:Bella Vino Wine Market\, 100 Indian Rocks Rd N Suite F\, Belleair Bluffs\, FL\, 33770\, United States
END:VEVENT
BEGIN:VEVENT
DTSTART;TZID=America/New_York:20200716T180000
DTEND;TZID=America/New_York:20200716T200000
DTSTAMP:20260424T220347
CREATED:20200627T204234Z
LAST-MODIFIED:20200627T204234Z
UID:3399-1594922400-1594929600@bellavinowinemarket.com
SUMMARY:Live Music: David Lyon
DESCRIPTION:
URL:https://bellavinowinemarket.com/event/live-music-david-lyon-6/
LOCATION:Bella Vino Wine Market\, 100 Indian Rocks Rd N Suite F\, Belleair Bluffs\, FL\, 33770\, United States
END:VEVENT
BEGIN:VEVENT
DTSTART;TZID=America/New_York:20200711T180000
DTEND;TZID=America/New_York:20200711T200000
DTSTAMP:20260424T220347
CREATED:20200627T204132Z
LAST-MODIFIED:20200627T204132Z
UID:3397-1594490400-1594497600@bellavinowinemarket.com
SUMMARY:Live Music: David Lyon
DESCRIPTION:
URL:https://bellavinowinemarket.com/event/live-music-david-lyon-5/
LOCATION:Bella Vino Wine Market\, 100 Indian Rocks Rd N Suite F\, Belleair Bluffs\, FL\, 33770\, United States
END:VEVENT
BEGIN:VEVENT
DTSTART;TZID=America/New_York:20200710T180000
DTEND;TZID=America/New_York:20200710T200000
DTSTAMP:20260424T220347
CREATED:20200627T204100Z
LAST-MODIFIED:20200627T204100Z
UID:3395-1594404000-1594411200@bellavinowinemarket.com
SUMMARY:Live Music: David Lyon
DESCRIPTION:
URL:https://bellavinowinemarket.com/event/live-music-david-lyon-4/
LOCATION:Bella Vino Wine Market\, 100 Indian Rocks Rd N Suite F\, Belleair Bluffs\, FL\, 33770\, United States
END:VEVENT
BEGIN:VEVENT
DTSTART;TZID=America/New_York:20200709T180000
DTEND;TZID=America/New_York:20200709T200000
DTSTAMP:20260424T220347
CREATED:20200627T204022Z
LAST-MODIFIED:20200627T204022Z
UID:3393-1594317600-1594324800@bellavinowinemarket.com
SUMMARY:Live Music: David Lyon
DESCRIPTION:
URL:https://bellavinowinemarket.com/event/live-music-david-lyon-3/
LOCATION:Bella Vino Wine Market\, 100 Indian Rocks Rd N Suite F\, Belleair Bluffs\, FL\, 33770\, United States
END:VEVENT
BEGIN:VEVENT
DTSTART;TZID=America/New_York:20200703T180000
DTEND;TZID=America/New_York:20200703T200000
DTSTAMP:20260424T220347
CREATED:20200627T203910Z
LAST-MODIFIED:20200627T203910Z
UID:3391-1593799200-1593806400@bellavinowinemarket.com
SUMMARY:Live Music: David Lyon
DESCRIPTION:
URL:https://bellavinowinemarket.com/event/live-music-david-lyon-2/
LOCATION:Bella Vino Wine Market\, 100 Indian Rocks Rd N Suite F\, Belleair Bluffs\, FL\, 33770\, United States
END:VEVENT
BEGIN:VEVENT
DTSTART;TZID=America/New_York:20200702T180000
DTEND;TZID=America/New_York:20200702T200000
DTSTAMP:20260424T220347
CREATED:20200627T184741Z
LAST-MODIFIED:20200627T184804Z
UID:3389-1593712800-1593720000@bellavinowinemarket.com
SUMMARY:Live Music: David Lyon
DESCRIPTION:
URL:https://bellavinowinemarket.com/event/live-music-david-lyon/
LOCATION:Bella Vino Wine Market\, 100 Indian Rocks Rd N Suite F\, Belleair Bluffs\, FL\, 33770\, United States
END:VEVENT
BEGIN:VEVENT
DTSTART;TZID=America/New_York:20200320T173000
DTEND;TZID=America/New_York:20200320T193000
DTSTAMP:20260424T220347
CREATED:20200305T205106Z
LAST-MODIFIED:20200305T205106Z
UID:3369-1584725400-1584732600@bellavinowinemarket.com
SUMMARY:European Vacation Wine Tasting
DESCRIPTION:
URL:https://bellavinowinemarket.com/event/european-vacation-wine-tasting/
LOCATION:Bella Vino Wine Market\, 100 Indian Rocks Rd N Suite F\, Belleair Bluffs\, FL\, 33770\, United States
END:VEVENT
BEGIN:VEVENT
DTSTART;TZID=America/New_York:20200225T160000
DTEND;TZID=America/New_York:20200225T180000
DTSTAMP:20260424T220347
CREATED:20200220T190929Z
LAST-MODIFIED:20200220T190929Z
UID:3364-1582646400-1582653600@bellavinowinemarket.com
SUMMARY:Drop-In Tasting: Talbott Vineyards
DESCRIPTION:
URL:https://bellavinowinemarket.com/event/drop-in-tasting-talbott-vineyards/
LOCATION:Bella Vino Wine Market\, 100 Indian Rocks Rd N Suite F\, Belleair Bluffs\, FL\, 33770\, United States
END:VEVENT
BEGIN:VEVENT
DTSTART;TZID=America/New_York:20200221T173000
DTEND;TZID=America/New_York:20200221T193000
DTSTAMP:20260424T220347
CREATED:20200204T214834Z
LAST-MODIFIED:20200204T214834Z
UID:3355-1582306200-1582313400@bellavinowinemarket.com
SUMMARY:Red Wine Lovers Wine Tasting
DESCRIPTION:
URL:https://bellavinowinemarket.com/event/red-wine-lovers-wine-tasting/
LOCATION:Bella Vino Wine Market\, 100 Indian Rocks Rd N Suite F\, Belleair Bluffs\, FL\, 33770\, United States
END:VEVENT
BEGIN:VEVENT
DTSTART;TZID=America/New_York:20200213T160000
DTEND;TZID=America/New_York:20200213T180000
DTSTAMP:20260424T220347
CREATED:20200211T191816Z
LAST-MODIFIED:20200211T191816Z
UID:3357-1581609600-1581616800@bellavinowinemarket.com
SUMMARY:Drop-In Tasting: Hartford Family Wines
DESCRIPTION:
URL:https://bellavinowinemarket.com/event/drop-in-tasting-hartford-family-wines/
LOCATION:Bella Vino Wine Market\, 100 Indian Rocks Rd N Suite F\, Belleair Bluffs\, FL\, 33770\, United States
END:VEVENT
BEGIN:VEVENT
DTSTART;TZID=America/New_York:20200131T173000
DTEND;TZID=America/New_York:20200131T193000
DTSTAMP:20260424T220347
CREATED:20200110T203644Z
LAST-MODIFIED:20200110T203644Z
UID:3345-1580491800-1580499000@bellavinowinemarket.com
SUMMARY:Super Wine Tasting
DESCRIPTION:
URL:https://bellavinowinemarket.com/event/super-wine-tasting/
LOCATION:Bella Vino Wine Market\, 100 Indian Rocks Rd N Suite F\, Belleair Bluffs\, FL\, 33770\, United States
END:VEVENT
BEGIN:VEVENT
DTSTART;TZID=America/New_York:20200122T153000
DTEND;TZID=America/New_York:20200122T173000
DTSTAMP:20260424T220347
CREATED:20200114T195320Z
LAST-MODIFIED:20200114T195320Z
UID:3348-1579707000-1579714200@bellavinowinemarket.com
SUMMARY:Drop-In Wine Tasting: TJ Evans of Domaine Carneros
DESCRIPTION:
URL:https://bellavinowinemarket.com/event/drop-in-wine-tasting-tj-evans-of-domaine-carneros/
LOCATION:Bella Vino Wine Market\, 100 Indian Rocks Rd N Suite F\, Belleair Bluffs\, FL\, 33770\, United States
END:VEVENT
BEGIN:VEVENT
DTSTART;TZID=America/New_York:20191213T173000
DTEND;TZID=America/New_York:20191213T200000
DTSTAMP:20260424T220347
CREATED:20190509T201724Z
LAST-MODIFIED:20190709T204657Z
UID:3247-1576258200-1576267200@bellavinowinemarket.com
SUMMARY:14th Annual Tiny Bubbles and Big Reds
DESCRIPTION:
URL:https://bellavinowinemarket.com/event/14th-annual-tiny-bubbles-and-big-reds/
LOCATION:Belleair Country Club\, 1 Country Club Lane\, Belleair\, FL\, 33756\, United States
END:VEVENT
BEGIN:VEVENT
DTSTART;TZID=America/New_York:20191126T160000
DTEND;TZID=America/New_York:20191126T180000
DTSTAMP:20260424T220347
CREATED:20191122T213200Z
LAST-MODIFIED:20191122T213200Z
UID:3322-1574784000-1574791200@bellavinowinemarket.com
SUMMARY:Drop-In Tasting: J Vineyards
DESCRIPTION:
URL:https://bellavinowinemarket.com/event/drop-in-tasting-j-vineyards/
LOCATION:Bella Vino Wine Market\, 100 Indian Rocks Rd N Suite F\, Belleair Bluffs\, FL\, 33770\, United States
END:VEVENT
BEGIN:VEVENT
DTSTART;TZID=America/New_York:20191122T173000
DTEND;TZID=America/New_York:20191122T193000
DTSTAMP:20260424T220347
CREATED:20191102T210547Z
LAST-MODIFIED:20191102T210547Z
UID:3309-1574443800-1574451000@bellavinowinemarket.com
SUMMARY:Wine and Cheese Tasting
DESCRIPTION:
URL:https://bellavinowinemarket.com/event/wine-and-cheese-tasting/
LOCATION:Bella Vino Wine Market\, 100 Indian Rocks Rd N Suite F\, Belleair Bluffs\, FL\, 33770\, United States
END:VEVENT
BEGIN:VEVENT
DTSTART;TZID=America/New_York:20191025T173000
DTEND;TZID=America/New_York:20191025T193000
DTSTAMP:20260424T220347
CREATED:20191002T184816Z
LAST-MODIFIED:20191002T184816Z
UID:3299-1572024600-1572031800@bellavinowinemarket.com
SUMMARY:Sweet '16 Wine Tasting
DESCRIPTION:
URL:https://bellavinowinemarket.com/event/sweet-16-wine-tasting/
LOCATION:Bella Vino Wine Market\, 100 Indian Rocks Rd N Suite F\, Belleair Bluffs\, FL\, 33770\, United States
END:VEVENT
BEGIN:VEVENT
DTSTART;TZID=America/New_York:20190920T173000
DTEND;TZID=America/New_York:20190920T193000
DTSTAMP:20260424T220347
CREATED:20190821T163038Z
LAST-MODIFIED:20190821T163038Z
UID:3283-1569000600-1569007800@bellavinowinemarket.com
SUMMARY:Organic Wines Tasting
DESCRIPTION:
URL:https://bellavinowinemarket.com/event/organic-wines-tasting/
LOCATION:Bella Vino Wine Market\, 100 Indian Rocks Rd N Suite F\, Belleair Bluffs\, FL\, 33770\, United States
END:VEVENT
BEGIN:VEVENT
DTSTART;TZID=America/New_York:20190816T173000
DTEND;TZID=America/New_York:20190816T193000
DTSTAMP:20260424T220347
CREATED:20190724T162806Z
LAST-MODIFIED:20190724T162806Z
UID:3269-1565976600-1565983800@bellavinowinemarket.com
SUMMARY:Summer Time Wines Tasting
DESCRIPTION:
URL:https://bellavinowinemarket.com/event/summer-time-wines-tasting/
LOCATION:Bella Vino Wine Market\, 100 Indian Rocks Rd N Suite F\, Belleair Bluffs\, FL\, 33770\, United States
END:VEVENT
BEGIN:VEVENT
DTSTART;TZID=America/New_York:20190719T173000
DTEND;TZID=America/New_York:20190719T193000
DTSTAMP:20260424T220347
CREATED:20190509T201601Z
LAST-MODIFIED:20190509T201601Z
UID:3245-1563557400-1563564600@bellavinowinemarket.com
SUMMARY:Tour de France Tasting
DESCRIPTION:
URL:https://bellavinowinemarket.com/event/tour-de-france-tasting-2/
LOCATION:Bella Vino Wine Market\, 100 Indian Rocks Rd N Suite F\, Belleair Bluffs\, FL\, 33770\, United States
END:VEVENT
BEGIN:VEVENT
DTSTART;TZID=America/New_York:20190614T173000
DTEND;TZID=America/New_York:20190614T193000
DTSTAMP:20260424T220347
CREATED:20190509T201518Z
LAST-MODIFIED:20190509T201518Z
UID:3243-1560533400-1560540600@bellavinowinemarket.com
SUMMARY:Cabs for Dads Tasting
DESCRIPTION:
URL:https://bellavinowinemarket.com/event/cabs-for-dads-tasting-2/
LOCATION:Bella Vino Wine Market\, 100 Indian Rocks Rd N Suite F\, Belleair Bluffs\, FL\, 33770\, United States
END:VEVENT
BEGIN:VEVENT
DTSTART;TZID=America/New_York:20190604T170000
DTEND;TZID=America/New_York:20190604T190000
DTSTAMP:20260424T220347
CREATED:20190509T201413Z
LAST-MODIFIED:20190509T201413Z
UID:3241-1559667600-1559674800@bellavinowinemarket.com
SUMMARY:Drop-In Tasting: Luciano Castiello of Banfi Vintners
DESCRIPTION:
URL:https://bellavinowinemarket.com/event/drop-in-tasting-luciano-castiello-of-banfi-vintners/
LOCATION:Bella Vino Wine Market\, 100 Indian Rocks Rd N Suite F\, Belleair Bluffs\, FL\, 33770\, United States
END:VEVENT
BEGIN:VEVENT
DTSTART;TZID=America/New_York:20190517T173000
DTEND;TZID=America/New_York:20190517T193000
DTSTAMP:20260424T220347
CREATED:20190501T153359Z
LAST-MODIFIED:20190501T153359Z
UID:3236-1558114200-1558121400@bellavinowinemarket.com
SUMMARY:Pinot for Particus
DESCRIPTION:
URL:https://bellavinowinemarket.com/event/pinot-for-particus/
LOCATION:Bella Vino Wine Market\, 100 Indian Rocks Rd N Suite F\, Belleair Bluffs\, FL\, 33770\, United States
END:VEVENT
BEGIN:VEVENT
DTSTART;TZID=America/New_York:20190515T170000
DTEND;TZID=America/New_York:20190515T190000
DTSTAMP:20260424T220347
CREATED:20190508T202108Z
LAST-MODIFIED:20190508T202108Z
UID:3239-1557939600-1557946800@bellavinowinemarket.com
SUMMARY:Drop-In Tasting: Mastrojanni
DESCRIPTION:
URL:https://bellavinowinemarket.com/event/drop-in-tasting-mastrojanni/
LOCATION:Bella Vino Wine Market\, 100 Indian Rocks Rd N Suite F\, Belleair Bluffs\, FL\, 33770\, United States
END:VEVENT
BEGIN:VEVENT
DTSTART;TZID=America/New_York:20190426T173000
DTEND;TZID=America/New_York:20190426T193000
DTSTAMP:20260424T220347
CREATED:20190330T214758Z
LAST-MODIFIED:20190330T214758Z
UID:3229-1556299800-1556307000@bellavinowinemarket.com
SUMMARY:Taste of Italy Wine Tasting
DESCRIPTION:
URL:https://bellavinowinemarket.com/event/taste-of-italy-wine-tasting/
LOCATION:Bella Vino Wine Market\, 100 Indian Rocks Rd N Suite F\, Belleair Bluffs\, FL\, 33770\, United States
END:VEVENT
BEGIN:VEVENT
DTSTART;TZID=America/New_York:20190322T173000
DTEND;TZID=America/New_York:20190322T193000
DTSTAMP:20260424T220347
CREATED:20190307T193153Z
LAST-MODIFIED:20190307T193153Z
UID:3178-1553275800-1553283000@bellavinowinemarket.com
SUMMARY:California Dreamin' Wine Tasting
DESCRIPTION:
URL:https://bellavinowinemarket.com/event/california-dreamin-wine-tasting/
LOCATION:Bella Vino Wine Market\, 100 Indian Rocks Rd N Suite F\, Belleair Bluffs\, FL\, 33770\, United States
END:VEVENT
BEGIN:VEVENT
DTSTART;TZID=America/New_York:20190223T150000
DTEND;TZID=America/New_York:20190223T170000
DTSTAMP:20260424T220347
CREATED:20190205T230503Z
LAST-MODIFIED:20190205T230503Z
UID:3147-1550934000-1550941200@bellavinowinemarket.com
SUMMARY:Drop-In Tasting: Andretti Winery
DESCRIPTION:
URL:https://bellavinowinemarket.com/event/drop-in-tasting-andretti-winery/
LOCATION:Bella Vino Wine Market\, 100 Indian Rocks Rd N Suite F\, Belleair Bluffs\, FL\, 33770\, United States
END:VEVENT
BEGIN:VEVENT
DTSTART;TZID=America/New_York:20190222T173000
DTEND;TZID=America/New_York:20190222T193000
DTSTAMP:20260424T220347
CREATED:20190202T203245Z
LAST-MODIFIED:20190202T203245Z
UID:3144-1550856600-1550863800@bellavinowinemarket.com
SUMMARY:Incredible Imports Wine Tasting
DESCRIPTION:
URL:https://bellavinowinemarket.com/event/incredible-imports-wine-tasting/
LOCATION:Bella Vino Wine Market\, 100 Indian Rocks Rd N Suite F\, Belleair Bluffs\, FL\, 33770\, United States
END:VEVENT
BEGIN:VEVENT
DTSTART;TZID=America/New_York:20190131T160000
DTEND;TZID=America/New_York:20190131T180000
DTSTAMP:20260424T220347
CREATED:20190129T234911Z
LAST-MODIFIED:20190129T234911Z
UID:3142-1548950400-1548957600@bellavinowinemarket.com
SUMMARY:Drop-In Tasting: Dylan York of Revana & Alexana
DESCRIPTION:
URL:https://bellavinowinemarket.com/event/drop-in-tasting-dylan-york-of-revana-alexana/
LOCATION:Bella Vino Wine Market\, 100 Indian Rocks Rd N Suite F\, Belleair Bluffs\, FL\, 33770\, United States
END:VEVENT
END:VCALENDAR