BEGIN:VCALENDAR
VERSION:2.0
PRODID:-//Bella Vino Wine Market - ECPv6.15.20//NONSGML v1.0//EN
CALSCALE:GREGORIAN
METHOD:PUBLISH
X-ORIGINAL-URL:https://bellavinowinemarket.com
X-WR-CALDESC:Events for Bella Vino Wine Market
REFRESH-INTERVAL;VALUE=DURATION:PT1H
X-Robots-Tag:noindex
X-PUBLISHED-TTL:PT1H
BEGIN:VTIMEZONE
TZID:America/New_York
BEGIN:DAYLIGHT
TZOFFSETFROM:-0500
TZOFFSETTO:-0400
TZNAME:EDT
DTSTART:20250309T070000
END:DAYLIGHT
BEGIN:STANDARD
TZOFFSETFROM:-0400
TZOFFSETTO:-0500
TZNAME:EST
DTSTART:20251102T060000
END:STANDARD
BEGIN:DAYLIGHT
TZOFFSETFROM:-0500
TZOFFSETTO:-0400
TZNAME:EDT
DTSTART:20260308T070000
END:DAYLIGHT
BEGIN:STANDARD
TZOFFSETFROM:-0400
TZOFFSETTO:-0500
TZNAME:EST
DTSTART:20261101T060000
END:STANDARD
BEGIN:DAYLIGHT
TZOFFSETFROM:-0500
TZOFFSETTO:-0400
TZNAME:EDT
DTSTART:20270314T070000
END:DAYLIGHT
BEGIN:STANDARD
TZOFFSETFROM:-0400
TZOFFSETTO:-0500
TZNAME:EST
DTSTART:20271107T060000
END:STANDARD
END:VTIMEZONE
BEGIN:VEVENT
DTSTART;TZID=America/New_York:20260415T180000
DTEND;TZID=America/New_York:20260415T200000
DTSTAMP:20260424T223837
CREATED:20260415T184341Z
LAST-MODIFIED:20260415T184341Z
UID:3922-1776276000-1776283200@bellavinowinemarket.com
SUMMARY:Live Music - David Lyon
DESCRIPTION:
URL:https://bellavinowinemarket.com/event/live-music-david-lyon-25/
LOCATION:Bella Vino Wine Market\, 100 Indian Rocks Rd N Suite F\, Belleair Bluffs\, FL\, 33770\, United States
END:VEVENT
BEGIN:VEVENT
DTSTART;TZID=America/New_York:20260416T180000
DTEND;TZID=America/New_York:20260416T200000
DTSTAMP:20260424T223837
CREATED:20260415T184029Z
LAST-MODIFIED:20260415T184029Z
UID:3916-1776362400-1776369600@bellavinowinemarket.com
SUMMARY:Live Music - David Lyon
DESCRIPTION:
URL:https://bellavinowinemarket.com/event/live-music-david-lyon-22/
LOCATION:Bella Vino Wine Market\, 100 Indian Rocks Rd N Suite F\, Belleair Bluffs\, FL\, 33770\, United States
END:VEVENT
BEGIN:VEVENT
DTSTART;TZID=America/New_York:20260417T180000
DTEND;TZID=America/New_York:20260417T200000
DTSTAMP:20260424T223837
CREATED:20260415T184233Z
LAST-MODIFIED:20260415T184233Z
UID:3918-1776448800-1776456000@bellavinowinemarket.com
SUMMARY:Live Music - David Lyon
DESCRIPTION:
URL:https://bellavinowinemarket.com/event/live-music-david-lyon-23/
LOCATION:Bella Vino Wine Market\, 100 Indian Rocks Rd N Suite F\, Belleair Bluffs\, FL\, 33770\, United States
END:VEVENT
BEGIN:VEVENT
DTSTART;TZID=America/New_York:20260422T173000
DTEND;TZID=America/New_York:20260422T193000
DTSTAMP:20260424T223837
CREATED:20260415T183944Z
LAST-MODIFIED:20260415T183944Z
UID:3913-1776879000-1776886200@bellavinowinemarket.com
SUMMARY:April Wine Tasting - A Taste of Italy
DESCRIPTION:
URL:https://bellavinowinemarket.com/event/april-wine-tasting-a-taste-of-italy/
LOCATION:Bella Vino Wine Market\, 100 Indian Rocks Rd N Suite F\, Belleair Bluffs\, FL\, 33770\, United States
END:VEVENT
BEGIN:VEVENT
DTSTART;TZID=America/New_York:20260423T180000
DTEND;TZID=America/New_York:20260423T200000
DTSTAMP:20260424T223837
CREATED:20260415T184309Z
LAST-MODIFIED:20260415T184309Z
UID:3920-1776967200-1776974400@bellavinowinemarket.com
SUMMARY:Live Music - David Lyon
DESCRIPTION:
URL:https://bellavinowinemarket.com/event/live-music-david-lyon-24/
LOCATION:Bella Vino Wine Market\, 100 Indian Rocks Rd N Suite F\, Belleair Bluffs\, FL\, 33770\, United States
END:VEVENT
BEGIN:VEVENT
DTSTART;TZID=America/New_York:20260424T180000
DTEND;TZID=America/New_York:20260424T200000
DTSTAMP:20260424T223837
CREATED:20260415T185152Z
LAST-MODIFIED:20260415T185152Z
UID:3926-1777053600-1777060800@bellavinowinemarket.com
SUMMARY:Live Music - David Lyon
DESCRIPTION:
URL:https://bellavinowinemarket.com/event/live-music-david-lyon-26/
LOCATION:Bella Vino Wine Market\, 100 Indian Rocks Rd N Suite F\, Belleair Bluffs\, FL\, 33770\, United States
END:VEVENT
BEGIN:VEVENT
DTSTART;TZID=America/New_York:20260425T180000
DTEND;TZID=America/New_York:20260425T203000
DTSTAMP:20260424T223837
CREATED:20260415T184434Z
LAST-MODIFIED:20260415T184434Z
UID:3924-1777140000-1777149000@bellavinowinemarket.com
SUMMARY:Live Music - Rick Shilling
DESCRIPTION:
URL:https://bellavinowinemarket.com/event/live-music-rick-shilling/
LOCATION:Bella Vino Wine Market\, 100 Indian Rocks Rd N Suite F\, Belleair Bluffs\, FL\, 33770\, United States
END:VEVENT
END:VCALENDAR